BEGIN:VCALENDAR
PRODID: -//CFLIB.ORG//iCalUS()//EN
VERSION:2.0
METHOD:REQUEST
BEGIN:VTIMEZONE
BEGIN:STANDARD
DTSTART:20061101T020000
RRULE:FREQ=YEARLY;INTERVAL=1;BYDAY=1SU;BYMONTH=11
TZOFFSETFROM:-0400
TZOFFSETTO:-0500
TZNAME:Standard Time
END:STANDARD
BEGIN:DAYLIGHT
DTSTART:20060301T020000
RRULE:FREQ=YEARLY;INTERVAL=1;BYDAY=2SU;BYMONTH=3
TZOFFSETFROM:-0500
TZOFFSETTO:-0400
TZNAME:Daylight Savings Time
END:DAYLIGHT
END:VTIMEZONE
BEGIN:VEVENT
UID:1551254608563.CFLIB.ORG
ORGANIZER;CN=:MAILTO:
DTSTAMP:20190227T190328
DTSTART;TZID=Eastern Time:20190316T120000
DTEND;TZID=Eastern Time:20190316T130000
SUMMARY:FIRST NATIONAL REAL ESTATE PORT MACQUARIE - PROPERTY AUCTION - 4 Banksia Avenue, PORT MACQUARIE, 2444
LOCATION:4 Banksia Avenue, PORT MACQUARIE, 2444
DESCRIPTION:PROPERTY AUCTION: 4 Banksia Avenue, PORT MACQUARIE, 2444\n\n\nAUCTION DATE: 16 March 2019 - 12:00PM\nAUCTION LOCATION: 4 Banksia Avenue, PORT MACQUARIE, 2444\n\n\nClick the link for full listing information: http://portmacquariefn.com.au?/property/3336016
PRIORITY:1
TRANSP:OPAQUE
CLASS:PUBLIC
BEGIN:VALARM
TRIGGER:-PT30M
ACTION:DISPLAY
DESCRIPTION:Reminder
END:VALARM
END:VEVENT
END:VCALENDAR 