BEGIN:VCALENDAR
PRODID: -//CFLIB.ORG//iCalUS()//EN
VERSION:2.0
METHOD:REQUEST
BEGIN:VTIMEZONE
BEGIN:STANDARD
DTSTART:20061101T020000
RRULE:FREQ=YEARLY;INTERVAL=1;BYDAY=1SU;BYMONTH=11
TZOFFSETFROM:-0400
TZOFFSETTO:-0500
TZNAME:Standard Time
END:STANDARD
BEGIN:DAYLIGHT
DTSTART:20060301T020000
RRULE:FREQ=YEARLY;INTERVAL=1;BYDAY=2SU;BYMONTH=3
TZOFFSETFROM:-0500
TZOFFSETTO:-0400
TZNAME:Daylight Savings Time
END:DAYLIGHT
END:VTIMEZONE
BEGIN:VEVENT
UID:1551254670247.CFLIB.ORG
ORGANIZER;CN=:MAILTO:
DTSTAMP:20190227T190430
DTSTART;TZID=Eastern Time:20190302T100000
DTEND;TZID=Eastern Time:20190302T103000
SUMMARY:FIRST NATIONAL REAL ESTATE PORT MACQUARIE - OFI/OPEN HOME - 4 Banksia Avenue, PORT MACQUARIE, 2444
LOCATION:4 Banksia Avenue, PORT MACQUARIE, 2444
DESCRIPTION:OFI/OPEN HOME - 4 Banksia Avenue, PORT MACQUARIE, 2444\n\nSaturday 10:00AM-10:30AM\n\nClick the link for full listing information: http://portmacquariefn.com.au?/property/3336016
PRIORITY:1
TRANSP:OPAQUE
CLASS:PUBLIC
BEGIN:VALARM
TRIGGER:-PT30M
ACTION:DISPLAY
DESCRIPTION:Reminder
END:VALARM
END:VEVENT
END:VCALENDAR 